BEGIN:VCALENDAR
VERSION:2.0
PRODID:-//Detroit (MI) Chapter of The Links Incorporated - ECPv6.15.20//NONSGML v1.0//EN
CALSCALE:GREGORIAN
METHOD:PUBLISH
X-WR-CALNAME:Detroit (MI) Chapter of The Links Incorporated
X-ORIGINAL-URL:https://detroitlinks.org
X-WR-CALDESC:Events for Detroit (MI) Chapter of The Links Incorporated
REFRESH-INTERVAL;VALUE=DURATION:PT1H
X-Robots-Tag:noindex
X-PUBLISHED-TTL:PT1H
BEGIN:VTIMEZONE
TZID:UTC
BEGIN:STANDARD
TZOFFSETFROM:+0000
TZOFFSETTO:+0000
TZNAME:UTC
DTSTART:20210101T000000
END:STANDARD
END:VTIMEZONE
BEGIN:VTIMEZONE
TZID:America/Detroit
BEGIN:DAYLIGHT
TZOFFSETFROM:-0500
TZOFFSETTO:-0400
TZNAME:EDT
DTSTART:20210314T070000
END:DAYLIGHT
BEGIN:STANDARD
TZOFFSETFROM:-0400
TZOFFSETTO:-0500
TZNAME:EST
DTSTART:20211107T060000
END:STANDARD
BEGIN:DAYLIGHT
TZOFFSETFROM:-0500
TZOFFSETTO:-0400
TZNAME:EDT
DTSTART:20220313T070000
END:DAYLIGHT
BEGIN:STANDARD
TZOFFSETFROM:-0400
TZOFFSETTO:-0500
TZNAME:EST
DTSTART:20221106T060000
END:STANDARD
BEGIN:DAYLIGHT
TZOFFSETFROM:-0500
TZOFFSETTO:-0400
TZNAME:EDT
DTSTART:20230312T070000
END:DAYLIGHT
BEGIN:STANDARD
TZOFFSETFROM:-0400
TZOFFSETTO:-0500
TZNAME:EST
DTSTART:20231105T060000
END:STANDARD
BEGIN:DAYLIGHT
TZOFFSETFROM:-0500
TZOFFSETTO:-0400
TZNAME:EDT
DTSTART:20240310T070000
END:DAYLIGHT
BEGIN:STANDARD
TZOFFSETFROM:-0400
TZOFFSETTO:-0500
TZNAME:EST
DTSTART:20241103T060000
END:STANDARD
BEGIN:DAYLIGHT
TZOFFSETFROM:-0500
TZOFFSETTO:-0400
TZNAME:EDT
DTSTART:20250309T070000
END:DAYLIGHT
BEGIN:STANDARD
TZOFFSETFROM:-0400
TZOFFSETTO:-0500
TZNAME:EST
DTSTART:20251102T060000
END:STANDARD
END:VTIMEZONE
BEGIN:VTIMEZONE
TZID:America/New_York
BEGIN:DAYLIGHT
TZOFFSETFROM:-0500
TZOFFSETTO:-0400
TZNAME:EDT
DTSTART:20220313T070000
END:DAYLIGHT
BEGIN:STANDARD
TZOFFSETFROM:-0400
TZOFFSETTO:-0500
TZNAME:EST
DTSTART:20221106T060000
END:STANDARD
BEGIN:DAYLIGHT
TZOFFSETFROM:-0500
TZOFFSETTO:-0400
TZNAME:EDT
DTSTART:20230312T070000
END:DAYLIGHT
BEGIN:STANDARD
TZOFFSETFROM:-0400
TZOFFSETTO:-0500
TZNAME:EST
DTSTART:20231105T060000
END:STANDARD
BEGIN:DAYLIGHT
TZOFFSETFROM:-0500
TZOFFSETTO:-0400
TZNAME:EDT
DTSTART:20240310T070000
END:DAYLIGHT
BEGIN:STANDARD
TZOFFSETFROM:-0400
TZOFFSETTO:-0500
TZNAME:EST
DTSTART:20241103T060000
END:STANDARD
BEGIN:DAYLIGHT
TZOFFSETFROM:-0500
TZOFFSETTO:-0400
TZNAME:EDT
DTSTART:20250309T070000
END:DAYLIGHT
BEGIN:STANDARD
TZOFFSETFROM:-0400
TZOFFSETTO:-0500
TZNAME:EST
DTSTART:20251102T060000
END:STANDARD
END:VTIMEZONE
BEGIN:VEVENT
DTSTART;TZID=UTC:20221018T203000
DTEND;TZID=UTC:20221018T220000
DTSTAMP:20260424T113635
CREATED:20221015T040727Z
LAST-MODIFIED:20221015T040727Z
UID:10000002-1666125000-1666130400@detroitlinks.org
SUMMARY:Elevating Our Impactful Service - Part 2
DESCRIPTION:  \nThis webinar is a follow-up to the Elevating Our Impactful Service – Part 1 webinar. During this webinar\, the National Programs Committee will provide examples of how many of our Signature Programs (our highest level of programming) can be the basis of a chapter’s integrated\, umbrella\, or collaborative programming. The committee will also share resources that are available to chapters to implement each Signature Program using The Links Service Delivery Model (SDM). This webinar is designed to make it easier for chapters to select which programs to implement that best meet their community needs; yields greater\, measurable impact; leverage existing SDMs; and is in their members’ areas of interest of service to foster increased collaboration and bonds of friendship. \n  \nIn case you missed it\, a recording of the Elevating Our Impactful Service – Part 1 webinar and accompanying slides are available in the documents section of Members Only: Documents > Programs > National Programs > Programs Webinars. \n  \nWho should attend? All members of The Links\, Incorporated with emphasis on chapter presidents\, chapter programming chairs and chapter facet chairs\, as well as area program coordinators and area facet chairs \n  \nService hours: You will earn 1.5 service hours for your attendance. \n  \nA Call for Questions \nWe invite you to submit questions prior to the webinar. When registering for the webinar\, please type your question(s) in the Questions & Comments field. Questions will also be accepted at the end of the webinar. The deadline to pre-submit questions is Friday\, October 14\, 2022 at 5:00 p.m. EDT.
URL:https://detroitlinks.org/event/elevating-our-impactful-service-part-2/
LOCATION:DetroitAthleticClub\, 241 Madison St\, Detroit\, MI\, 48226
CATEGORIES:All Events,National
END:VEVENT
BEGIN:VEVENT
DTSTART;TZID=America/Detroit:20221019T210000
DTEND;TZID=America/Detroit:20221019T220000
DTSTAMP:20260424T113635
CREATED:20221015T041711Z
LAST-MODIFIED:20221015T041711Z
UID:10000003-1666213200-1666216800@detroitlinks.org
SUMMARY:Enhancing the Membership Experience
DESCRIPTION:Please join the National Membership Committee as they seek to enhance your membership experience in The Links\, Incorporated. As the organization resets and reengages\, the committee is streamlining several processes. During this webinar\, you will be introduced to updated membership forms\, which will now be online for ease of use and timely processing. You will also enjoy a robust discussion and sharing of best practices in preparation for National Friendship Month this November. \nWho should attend? Chapter presidents and vice presidents. \nService hours: You will earn one (1) service hour for your attendance. \nA Call for Questions \nWe invite you to submit questions prior to the webinar. When registering for the webinar\, please type your question(s) in the Questions & Comments field. Questions will also be accepted at the end of the webinar. The deadline to pre-submit questions is Friday\, October 14\, 2022 at 5:00 p.m. EDT.
URL:https://detroitlinks.org/event/enhancing-the-membership-experience/
LOCATION:DetroitAthleticClub\, 241 Madison St\, Detroit\, MI\, 48226
CATEGORIES:National
END:VEVENT
BEGIN:VEVENT
DTSTART;TZID=UTC:20221025T203000
DTEND;TZID=UTC:20221025T213000
DTSTAMP:20260424T113635
CREATED:20221015T041953Z
LAST-MODIFIED:20221015T041953Z
UID:10000004-1666729800-1666733400@detroitlinks.org
SUMMARY:Budgeting and Fundraising …  The Details Behind the Details
DESCRIPTION:Join the National Finance Committee as they cover the A through Zs of creating chapter budgets and accounting for chapter fundraising events. The committee will discuss the meaning of “carry over” relative to chapter budgets; provide updated chapter budget templates; and\, discuss actions required during the program year when adjustments to various line items and/or the overall budget are needed. Chapter fundraising post-pandemic\, raffles and auctions will also be covered during this webinar. \nWho should attend? Chapter presidents\, treasurers\, assistant treasurers\, financial secretaries\, assistant financial secretaries\, audit chairs\, and fundraising chairs. \nService hours: You will earn 1.5 service hours for your attendance. \nA Call for Questions \nWe invite you to submit questions prior to the webinar. When registering for the webinar\, please type your question(s) in the Questions & Comments field. Questions will also be accepted at the end of the webinar. The deadline to pre-submit questions is Friday\, October 21\, 2022 at 5:00 p.m. EDT.
URL:https://detroitlinks.org/event/budgeting-and-fundraising-the-details-behind-the-details/
LOCATION:DetroitAthleticClub\, 241 Madison St\, Detroit\, MI\, 48226
CATEGORIES:All Events,National
END:VEVENT
BEGIN:VEVENT
DTSTART;VALUE=DATE:20230211
DTEND;VALUE=DATE:20230212
DTSTAMP:20260424T113635
CREATED:20230209T024227Z
LAST-MODIFIED:20230209T024316Z
UID:10000006-1676073600-1676159999@detroitlinks.org
SUMMARY:Metro Detroit Links and DAPCEP Collaborative
DESCRIPTION:The annual Links & DAPCEP STEAMM Collaboration event brings together students to explore STEAMM-related topics and activities.
URL:https://detroitlinks.org/event/metro-detroit-links-and-dapcep-collaborative/
LOCATION:MI
CATEGORIES:All Events,Health and Human Services,Local,Services to Youth
ATTACH;FMTTYPE=image/jpeg:https://detroitlinks.org/wp-content/uploads/2023/02/2023-STEAMM-Flyer.jpg
END:VEVENT
BEGIN:VEVENT
DTSTART;VALUE=DATE:20230214
DTEND;VALUE=DATE:20230219
DTSTAMP:20260424T113635
CREATED:20230208T213923Z
LAST-MODIFIED:20230209T024529Z
UID:10000005-1676332800-1676764799@detroitlinks.org
SUMMARY:Education Across The Miles: Mission Trip to Jamacia
DESCRIPTION:Join us this February as The Links\, Incorporated deepens the impact of our service in the lives of children and families in Montego Bay\, Jamaica.  Our members and supporters will work to meet the educational\, health and cultural needs of this community of African descent\, demonstrating our global impact.  While serving in this fourth delegation to Jamaica\, we will have the opportunity to visit and support the students and staff at four primary schools\, hear from local dignitaries and work hand in hand with partners who share our mission of being friends who transform communities through service. Don’t miss this opportunity to leave a global impact on the beautiful island nation of Jamaica!
URL:https://detroitlinks.org/event/4143/
LOCATION:MI
END:VEVENT
BEGIN:VEVENT
DTSTART;VALUE=DATE:20231109
DTEND;VALUE=DATE:20231110
DTSTAMP:20260424T113635
CREATED:20231013T163216Z
LAST-MODIFIED:20231013T163216Z
UID:10000008-1699488000-1699574399@detroitlinks.org
SUMMARY:The Links Incorporated\, Founders Day
DESCRIPTION:
URL:https://detroitlinks.org/event/the-links-incorporated-founders-day/
LOCATION:MI
CATEGORIES:All Events
END:VEVENT
BEGIN:VEVENT
DTSTART;TZID=America/Detroit:20231112T160000
DTEND;TZID=America/Detroit:20231112T180000
DTSTAMP:20260424T113635
CREATED:20231013T163216Z
LAST-MODIFIED:20231020T133621Z
UID:10000009-1699804800-1699812000@detroitlinks.org
SUMMARY:Linkage to Life Donor Sunday  MOTTEP Sounds of Saving Lives Concert
DESCRIPTION:
URL:https://detroitlinks.org/event/linkage-to-life-donor-sunday-mottep-sounds-of-saving-lives-concert/
LOCATION:Hartford Memorial Baptist Church\, 18700 James Couzens Fwy\, Detroit\, MI 48235\, USA
CATEGORIES:All Events
END:VEVENT
BEGIN:VEVENT
DTSTART;TZID=America/Detroit:20231115T180000
DTEND;TZID=America/Detroit:20231115T200000
DTSTAMP:20260424T113635
CREATED:20231013T163216Z
LAST-MODIFIED:20231020T125432Z
UID:10000010-1700071200-1700078400@detroitlinks.org
SUMMARY:Detroit Links Monthly Meeting
DESCRIPTION:
URL:https://detroitlinks.org/event/detroit-links-monthly-meeting/2023-11-15/
LOCATION:Detroit Golf Club\, 17911 Hamilton\, Detroit\, MI\, 48203\, United States
CATEGORIES:All Events,Monthly Meetings
END:VEVENT
BEGIN:VEVENT
DTSTART;TZID=America/New_York:20231130T180000
DTEND;TZID=America/New_York:20231130T200000
DTSTAMP:20260424T113635
CREATED:20231108T014813Z
LAST-MODIFIED:20231108T025156Z
UID:10000019-1701367200-1701374400@detroitlinks.org
SUMMARY:The Metro Detroit Council of the Links\, Incorporated Friendship Event
DESCRIPTION:It’s time to celebrate Friendship Month! Join us for a magical Holiday Party filled with joy\, friendship\, and festive cheer! No matter if you have been naughty or nice\, this soireé promises a merry time for everyone.\n\n\nWe are excited to celebrate The Links National Friendship Month by organizing a friendship event in partnership with Detroit Metro Area Links. The event is scheduled for Thursday\, November 30th and will be held at Plum Hollow Country Club in Southfield. This exclusive event is only open to our members and alumna members of the Metro Detroit Chapters of the Links Incorporated.\n\n\nTickets are $55 per person\, with a ticket service fee of $5.00. You can purchase the tickets through Eventbrite by following this link: https://MetroDetroitLinksFriendshipEvent2023.eventbrite.com.The ticket includes food\, a complimentary beverage\, access to vendors\, a DJ\, and a photo booth\, coat check\, and valet! A cash bar will also be available for additional beverage purchases.\n\n\nPlease note that tickets must be purchased by Tuesday\, November 14th\, and are limited\, so register today! If you have any questions regarding this event\, please get in touch with Link Kim Keaton Williams.\n\nWe are looking forward to spending some quality time with our Link sisters\, so let’s make this event a memorable one!
URL:https://detroitlinks.org/event/the-metro-detroit-council-of-the-links-incorporated-friendship-event/
LOCATION:Plum Hollow Country Club\, 21632 Lahser Rd\, Southfield\, MI\, United States
GEO:42.451154;-83.2598
X-APPLE-STRUCTURED-LOCATION;VALUE=URI;X-ADDRESS=Plum Hollow Country Club 21632 Lahser Rd Southfield MI United States;X-APPLE-RADIUS=500;X-TITLE=21632 Lahser Rd:geo:-83.2598,42.451154
END:VEVENT
BEGIN:VEVENT
DTSTART;TZID=America/Detroit:20231130T180000
DTEND;TZID=America/Detroit:20231130T210000
DTSTAMP:20260424T113635
CREATED:20231102T191534Z
LAST-MODIFIED:20231102T191534Z
UID:10000018-1701367200-1701378000@detroitlinks.org
SUMMARY:Metro Detroit Council of The Links\, Incorporated\, Friendship Event
DESCRIPTION:To see detailed information for automatically created events like this one\, use the official Google Calendar app. https://g.co/calendar\nThis event was created from an email you received in Gmail. https://mail.google.com/mail?extsrc=cal&plid=ACUX6DPwLJAPDTGCf-w0u0XgsA2WnuGuuhL6_kU
URL:https://detroitlinks.org/event/metro-detroit-council-of-the-links-incorporated-friendship-event/
LOCATION:Plum Hollow Country Club\, 21632 Lahser Rd\, Southfield\, MI\, United States
CATEGORIES:All Events
ORGANIZER;CN="unknownorganizer@calendar.google.com":MAILTO:unknownorganizer@calendar.google.com
GEO:42.451154;-83.2598
X-APPLE-STRUCTURED-LOCATION;VALUE=URI;X-ADDRESS=Plum Hollow Country Club 21632 Lahser Rd Southfield MI United States;X-APPLE-RADIUS=500;X-TITLE=21632 Lahser Rd:geo:-83.2598,42.451154
END:VEVENT
BEGIN:VEVENT
DTSTART;TZID=America/Detroit:20231220T180000
DTEND;TZID=America/Detroit:20231220T200000
DTSTAMP:20260424T113635
CREATED:20231013T163216Z
LAST-MODIFIED:20231020T125432Z
UID:10000011-1703095200-1703102400@detroitlinks.org
SUMMARY:Detroit Links Monthly Meeting
DESCRIPTION:
URL:https://detroitlinks.org/event/detroit-links-monthly-meeting/2023-12-20/
LOCATION:Detroit Golf Club\, 17911 Hamilton\, Detroit\, MI\, 48203\, United States
CATEGORIES:All Events,Monthly Meetings
END:VEVENT
BEGIN:VEVENT
DTSTART;TZID=America/Detroit:20240117T180000
DTEND;TZID=America/Detroit:20240117T200000
DTSTAMP:20260424T113635
CREATED:20231013T163216Z
LAST-MODIFIED:20231020T125432Z
UID:10000012-1705514400-1705521600@detroitlinks.org
SUMMARY:Detroit Links Monthly Meeting
DESCRIPTION:
URL:https://detroitlinks.org/event/detroit-links-monthly-meeting/2024-01-17/
LOCATION:Detroit Golf Club\, 17911 Hamilton\, Detroit\, MI\, 48203\, United States
CATEGORIES:All Events,Monthly Meetings
END:VEVENT
BEGIN:VEVENT
DTSTART;TZID=America/Detroit:20240214T173000
DTEND;TZID=America/Detroit:20240214T200000
DTSTAMP:20260424T113635
CREATED:20240208T161048Z
LAST-MODIFIED:20240214T064101Z
UID:10000039-1707931800-1707940800@detroitlinks.org
SUMMARY:Detroit Links Monthly Meeting
DESCRIPTION:DINNER PAYMENT OPTIONS\n\nZelle: Detroitlinkszelle@gmail.com\nPayPal: https://www.paypal.com/paypalme/linksdetroit\nIf you are not eating: After you RSVP for the meeting\, leave a comment “Not Eating.” *If no response\, you will be charged the cost of a meal.
URL:https://detroitlinks.org/event/monthlymeeting/2024-02-14/
LOCATION:Detroit Golf Club\, 17911 Hamilton\, Detroit\, MI\, 48203\, United States
CATEGORIES:All Events,Monthly Meetings
END:VEVENT
BEGIN:VEVENT
DTSTART;TZID=America/New_York:20240220T110000
DTEND;TZID=America/New_York:20240220T140000
DTSTAMP:20260424T113635
CREATED:20240214T052141Z
LAST-MODIFIED:20240214T061857Z
UID:10000032-1708426800-1708437600@detroitlinks.org
SUMMARY:BLACK K.A.R.E: Wellness Bag Assembling
DESCRIPTION:The Black K.A.R.E. Committee is hard at work and would love to have the assistance and support of our wonderful Chapter members again\, Link Sisters…. We will be assembling wellness bags for dialysis patients and distributing them at a dialysis center on Tuesday\, February 20th.\n\nWe will meet at 11:00 am at BasBlue\, 110 E Ferry St\, Detroit\, MI\, where we will assemble the wellness bags. After the bags are assembled\, we will drive to Fresenius Bewick\, 7733 E Jefferson Ave.\, Ste 120\, Detroit\, MI\, where we will distribute the bags to dialysis patients. Volunteers can receive up to 3 hours for participating. If you are interested in volunteering\, please sign up here.
URL:https://detroitlinks.org/event/wellnessbagassembling/
LOCATION:Bas Bleu\, 110 E Ferry St\, Detroit\, MI\, 48202\, United States
CATEGORIES:All Events,Services to Youth
END:VEVENT
BEGIN:VEVENT
DTSTART;TZID=America/New_York:20240222T080000
DTEND;TZID=America/New_York:20240222T170000
DTSTAMP:20260424T113635
CREATED:20240214T062642Z
LAST-MODIFIED:20240214T063519Z
UID:10000043-1708588800-1708621200@detroitlinks.org
SUMMARY:Eggs Over Easy: Black Women & Fertility: Ann Arbor (MI) Chapter of The Links\, Incorporated
DESCRIPTION:This evening’s program will begin with a special viewing of Eggs Over Easy\, a documentary that explores the taboo subject of fertility in the Black community. Black women\, including Oscar-nominated actress Andra Day\, share stories of adoption\, surrogacy\, IVF\, and other methods of becoming a mother. \nFollowing the screening\, Eggs Over Easy Director Chiquita Lockley will join us for candid conversations on the reproductive choices of Black women. \nPlease use link below to register on Eventbrite.
URL:https://detroitlinks.org/event/eggs-over-easy-black-women-fertility-ann-arbor-mi-chapter-of-the-links-incorporated/
LOCATION:MI
ATTACH;FMTTYPE=image/jpeg:https://detroitlinks.org/wp-content/uploads/2024/02/https___cdn.evbuc_.com_images_692268569_206863434192_1_original.jpg
END:VEVENT
BEGIN:VEVENT
DTSTART;VALUE=DATE:20240310
DTEND;VALUE=DATE:20240311
DTSTAMP:20260424T113635
CREATED:20240214T054225Z
LAST-MODIFIED:20240214T054225Z
UID:10000035-1710028800-1710115199@detroitlinks.org
SUMMARY:Detroit Links Chapter Charter Day
DESCRIPTION:The Detroit Chapter of The Links\, Incorporated was chartered on March 10\, 1951\, the first of the ten Links chapters in Michigan. From its earliest years\, when members made stuffed toys for patients at Children’s Hospital and cancer pads for the Michigan Cancer Foundation\, the Detroit Chapter has been united in friendship and service. In the 1960s and 1970s\, the Chapter’s luncheon fashion show was a highlight of Detroit’s spring social season. Proceeds supported the United Foundation\, UNCF\, Urban League\, DABO\, and the NAACP Legal Defense Fund.
URL:https://detroitlinks.org/event/detroit-links-chapter-charter-day/
LOCATION:MI
END:VEVENT
BEGIN:VEVENT
DTSTART;TZID=America/Detroit:20240313T173000
DTEND;TZID=America/Detroit:20240313T200000
DTSTAMP:20260424T113635
CREATED:20240208T161048Z
LAST-MODIFIED:20240214T064101Z
UID:10000040-1710351000-1710360000@detroitlinks.org
SUMMARY:Detroit Links Monthly Meeting
DESCRIPTION:DINNER PAYMENT OPTIONS\n\nZelle: Detroitlinkszelle@gmail.com\nPayPal: https://www.paypal.com/paypalme/linksdetroit\nIf you are not eating: After you RSVP for the meeting\, leave a comment “Not Eating.” *If no response\, you will be charged the cost of a meal.
URL:https://detroitlinks.org/event/monthlymeeting/2024-03-13/
LOCATION:Detroit Golf Club\, 17911 Hamilton\, Detroit\, MI\, 48203\, United States
CATEGORIES:All Events,Monthly Meetings
END:VEVENT
BEGIN:VEVENT
DTSTART;TZID=America/New_York:20240316T100000
DTEND;TZID=America/New_York:20240316T130000
DTSTAMP:20260424T113635
CREATED:20240214T053317Z
LAST-MODIFIED:20240214T053317Z
UID:10000033-1710583200-1710594000@detroitlinks.org
SUMMARY:Links Impact Day: The Black Family Wellness Expo
DESCRIPTION:
URL:https://detroitlinks.org/event/blackfamilywellnessexpo/
LOCATION:Second Ebenzer Church\, 14601 Dequindre St\, Detroit\, MI\, 48212\, United States
ATTACH;FMTTYPE=image/jpeg:https://detroitlinks.org/wp-content/uploads/2024/02/unnamed.jpg
END:VEVENT
BEGIN:VEVENT
DTSTART;TZID=America/Detroit:20240410T173000
DTEND;TZID=America/Detroit:20240410T200000
DTSTAMP:20260424T113635
CREATED:20240208T161048Z
LAST-MODIFIED:20240214T064101Z
UID:10000041-1712770200-1712779200@detroitlinks.org
SUMMARY:Detroit Links Monthly Meeting
DESCRIPTION:DINNER PAYMENT OPTIONS\n\nZelle: Detroitlinkszelle@gmail.com\nPayPal: https://www.paypal.com/paypalme/linksdetroit\nIf you are not eating: After you RSVP for the meeting\, leave a comment “Not Eating.” *If no response\, you will be charged the cost of a meal.
URL:https://detroitlinks.org/event/monthlymeeting/2024-04-10/
LOCATION:Detroit Golf Club\, 17911 Hamilton\, Detroit\, MI\, 48203\, United States
CATEGORIES:All Events,Monthly Meetings
END:VEVENT
BEGIN:VEVENT
DTSTART;TZID=America/New_York:20240425T080000
DTEND;TZID=America/New_York:20240425T100000
DTSTAMP:20260424T113635
CREATED:20240214T054909Z
LAST-MODIFIED:20240214T055221Z
UID:10000036-1714032000-1714039200@detroitlinks.org
SUMMARY:2024 MOTTEP: Life Savers Leadership Breakfast
DESCRIPTION:The Lifesavers Leadership Breakfast acknowledges community and corporate partners who support the Detroit MOTTEP Foundation’s annual educational programs and events. MOTTEP is committed to providing culturally competent programs that engage ethnically diverse communities regarding the importance of organ and tissue donation. This is also a time to honor our volunteers\, donor families\, organ recipients\, and community champions.
URL:https://detroitlinks.org/event/2024-mottep-life-savers-leadership-breakfast/
LOCATION:Detroit Golf Club\, 17911 Hamilton\, Detroit\, MI\, 48203\, United States
END:VEVENT
BEGIN:VEVENT
DTSTART;TZID=America/Detroit:20240508T173000
DTEND;TZID=America/Detroit:20240508T200000
DTSTAMP:20260424T113635
CREATED:20240208T161048Z
LAST-MODIFIED:20240214T064101Z
UID:10000042-1715189400-1715198400@detroitlinks.org
SUMMARY:Detroit Links Monthly Meeting
DESCRIPTION:DINNER PAYMENT OPTIONS\n\nZelle: Detroitlinkszelle@gmail.com\nPayPal: https://www.paypal.com/paypalme/linksdetroit\nIf you are not eating: After you RSVP for the meeting\, leave a comment “Not Eating.” *If no response\, you will be charged the cost of a meal.
URL:https://detroitlinks.org/event/monthlymeeting/2024-05-08/
LOCATION:Detroit Golf Club\, 17911 Hamilton\, Detroit\, MI\, 48203\, United States
CATEGORIES:All Events,Monthly Meetings
END:VEVENT
BEGIN:VEVENT
DTSTART;TZID=America/New_York:20240515T180000
DTEND;TZID=America/New_York:20240515T200000
DTSTAMP:20260424T113635
CREATED:20240214T060523Z
LAST-MODIFIED:20240214T060537Z
UID:10000038-1715796000-1715803200@detroitlinks.org
SUMMARY:The Metro Detroit Links Collaboration present the 2024 STEAMM Scholarship Dinner
DESCRIPTION:Details to come
URL:https://detroitlinks.org/event/the-metro-detroit-links-collaboration-present-the-2024-steamm-scholarship-dinner/
LOCATION:Detroit Golf Club\, 17911 Hamilton\, Detroit\, MI\, 48203\, United States
CATEGORIES:Services to Youth
END:VEVENT
BEGIN:VEVENT
DTSTART;VALUE=DATE:20240619
DTEND;VALUE=DATE:20240624
DTSTAMP:20260424T113635
CREATED:20240214T063359Z
LAST-MODIFIED:20240609T111519Z
UID:10000044-1718755200-1719187199@detroitlinks.org
SUMMARY:THE LINKS\, INCORPORATED 44th NATIONAL ASSEMBLY
DESCRIPTION:
URL:https://detroitlinks.org/event/the-links-incorporated-national-assembly/
LOCATION:gaylord texas\, 1501 Gaylord Trail\, grapevine\, TX\, 76051\, United States
CATEGORIES:All Events,National
ATTACH;FMTTYPE=image/jpeg:https://detroitlinks.org/wp-content/uploads/2024/02/links-national-assembly.jpeg
END:VEVENT
BEGIN:VEVENT
DTSTART;TZID=America/New_York:20240911T173000
DTEND;TZID=America/New_York:20240911T200000
DTSTAMP:20260424T113635
CREATED:20240911T001247Z
LAST-MODIFIED:20240911T003118Z
UID:10000047-1726075800-1726084800@detroitlinks.org
SUMMARY:September Chapter Meeting
DESCRIPTION:
URL:https://detroitlinks.org/event/september-chapter-meeting/
LOCATION:Detroit Golf Club\, 17911 Hamilton\, Detroit\, MI\, 48203\, United States
END:VEVENT
BEGIN:VEVENT
DTSTART;TZID=America/Detroit:20240928T180000
DTEND;TZID=America/Detroit:20240928T230000
DTSTAMP:20260424T113635
CREATED:20240910T235259Z
LAST-MODIFIED:20240910T235259Z
UID:10000046-1727546400-1727564400@detroitlinks.org
SUMMARY:Rhythm and Rhinestones
DESCRIPTION:Explore and view our Chapter Exhibit: Our History\, Our Story – The Detroit (MI)Chapter of the Links\, Incorporated.\n\n\nYou are invited to Rhythm and Rhinestones! \nDate: Sat.\, September 28th\, 2024 \nTime: 6:00 PM \nLocation: Detroit Historical Museum \nJoin us for a night filled with music\, dancing\, and dazzling rhinestones! Get ready to groove to the rhythm and shine bright like a diamond on the dance floor. This event is all about letting loose\, having fun\, and making memories that will last a lifetime. So grab your friends\, put on your sparkliest outfit\, and get ready to party the night away at Rhythm and Rhinestones!
URL:https://detroitlinks.org/event/rhythm-and-rhinestones/
LOCATION:Detroit Historical Museum\, 5401 Woodward Avenue\, Detroit\, MI\, 48202\, United States
CATEGORIES:All Events
ATTACH;FMTTYPE=image/jpeg:https://detroitlinks.org/wp-content/uploads/2024/09/20d91ef4c6ee9c821be0a84aa609f68c.jpg
END:VEVENT
BEGIN:VEVENT
DTSTART;TZID=America/New_York:20240929T100000
DTEND;TZID=America/New_York:20240929T120000
DTSTAMP:20260424T113635
CREATED:20240924T234355Z
LAST-MODIFIED:20240924T234355Z
UID:10000058-1727604000-1727611200@detroitlinks.org
SUMMARY:Walk for Healthy Living - Everyone is Welcome!
DESCRIPTION:
URL:https://detroitlinks.org/event/walk-for-healthy-living-everyone-is-welcome/
LOCATION:normandy park\, royal oak\, 4234 Delemere Blvd\, Royal Oak\, MI\, United States
END:VEVENT
BEGIN:VEVENT
DTSTART;TZID=America/New_York:20241009T180000
DTEND;TZID=America/New_York:20241009T203000
DTSTAMP:20260424T113635
CREATED:20240911T002139Z
LAST-MODIFIED:20241008T005519Z
UID:10000048-1728496800-1728505800@detroitlinks.org
SUMMARY:October Chapter Meeting
DESCRIPTION:
URL:https://detroitlinks.org/event/october-chapter-meeting-3/
LOCATION:Aurora Italiana\, 6199 Orchard Lake Rd\, West Bloomfield Township\, MI\, 48322\, United States
ATTACH;FMTTYPE=image/webp:https://detroitlinks.org/wp-content/uploads/2024/09/66b12491da10da34469e0e88_flatlay-authentic-italian-food-pasta-pizza-seafood-bread.webp
END:VEVENT
BEGIN:VEVENT
DTSTART;TZID=America/New_York:20241010T090000
DTEND;TZID=America/New_York:20241010T110000
DTSTAMP:20260424T113635
CREATED:20241001T202145Z
LAST-MODIFIED:20241008T013434Z
UID:10000059-1728550800-1728558000@detroitlinks.org
SUMMARY:National Trends and Services Facet: Link up To Vote @ Marygrove
DESCRIPTION:The National Trends and Services Facet has planned an educational and impactful activity with our new service partner The School at Marygrove on Thursday\, October 10\, 2024\, from 9:00 AM until 10:40 AM. Our Link Up the Vote activity supports the National Social Action Initiative. In partnership with DPSCD\, we will register over 100 students to vote\, in addition to moderating a panel discussion with young local politicians and student activists. We need the support of our Link Sisters to assist with the registration process and are requesting six volunteers from the Chapter to join us at the activity. Please advise of your availability by Friday\, October 4th to SPierce@pierce-monroe.com. We look forward to a great turnout from all our Link Sisters. \n  \n 
URL:https://detroitlinks.org/event/national-trends-and-services-facet-link-up-to-vote-marygrove/
LOCATION:Marygrove\, 8425 W McNichols Rd\, Detroit\, 48221\, United States
CATEGORIES:National Trends and Services
ATTACH;FMTTYPE=application/pdf:https://detroitlinks.org/wp-content/uploads/2024/10/National-Trends-2024-final-1-1.pdf
END:VEVENT
BEGIN:VEVENT
DTSTART;TZID=America/New_York:20241102T090000
DTEND;TZID=America/New_York:20241102T150000
DTSTAMP:20260424T113635
CREATED:20240214T060159Z
LAST-MODIFIED:20241008T005849Z
UID:10000037-1730538000-1730559600@detroitlinks.org
SUMMARY:The Metro Detroit Links Collaboration present the 2024 STEAMM Youth Event
DESCRIPTION:
URL:https://detroitlinks.org/event/the-metro-detroit-links-collective-present-the-2024-steamm-collaboration/
LOCATION:University of Detroit\, 4001 W McNichols Rd\, Detroit\, MI\, 48221
CATEGORIES:Services to Youth
ATTACH;FMTTYPE=image/jpeg:https://detroitlinks.org/wp-content/uploads/2024/02/November-2024-STEAMM-Flyer-1-1.jpg
END:VEVENT
BEGIN:VEVENT
DTSTART;TZID=America/New_York:20241113T173000
DTEND;TZID=America/New_York:20241113T200000
DTSTAMP:20260424T113635
CREATED:20240911T001827Z
LAST-MODIFIED:20241008T183839Z
UID:10000049-1731519000-1731528000@detroitlinks.org
SUMMARY:November Chapter Meeting
DESCRIPTION:
URL:https://detroitlinks.org/event/novchaptermeeting/
LOCATION:Aurora Italiana\, 6199 Orchard Lake Rd\, West Bloomfield Township\, MI\, 48322\, United States
ATTACH;FMTTYPE=image/jpeg:https://detroitlinks.org/wp-content/uploads/2024/09/nov.jpg
END:VEVENT
END:VCALENDAR