BEGIN:VCALENDAR
VERSION:2.0
PRODID:-//Detroit (MI) Chapter of The Links Incorporated - ECPv6.15.20//NONSGML v1.0//EN
CALSCALE:GREGORIAN
METHOD:PUBLISH
X-WR-CALNAME:Detroit (MI) Chapter of The Links Incorporated
X-ORIGINAL-URL:https://detroitlinks.org
X-WR-CALDESC:Events for Detroit (MI) Chapter of The Links Incorporated
REFRESH-INTERVAL;VALUE=DURATION:PT1H
X-Robots-Tag:noindex
X-PUBLISHED-TTL:PT1H
BEGIN:VTIMEZONE
TZID:America/New_York
BEGIN:DAYLIGHT
TZOFFSETFROM:-0500
TZOFFSETTO:-0400
TZNAME:EDT
DTSTART:20230312T070000
END:DAYLIGHT
BEGIN:STANDARD
TZOFFSETFROM:-0400
TZOFFSETTO:-0500
TZNAME:EST
DTSTART:20231105T060000
END:STANDARD
BEGIN:DAYLIGHT
TZOFFSETFROM:-0500
TZOFFSETTO:-0400
TZNAME:EDT
DTSTART:20240310T070000
END:DAYLIGHT
BEGIN:STANDARD
TZOFFSETFROM:-0400
TZOFFSETTO:-0500
TZNAME:EST
DTSTART:20241103T060000
END:STANDARD
BEGIN:DAYLIGHT
TZOFFSETFROM:-0500
TZOFFSETTO:-0400
TZNAME:EDT
DTSTART:20250309T070000
END:DAYLIGHT
BEGIN:STANDARD
TZOFFSETFROM:-0400
TZOFFSETTO:-0500
TZNAME:EST
DTSTART:20251102T060000
END:STANDARD
BEGIN:DAYLIGHT
TZOFFSETFROM:-0500
TZOFFSETTO:-0400
TZNAME:EDT
DTSTART:20260308T070000
END:DAYLIGHT
BEGIN:STANDARD
TZOFFSETFROM:-0400
TZOFFSETTO:-0500
TZNAME:EST
DTSTART:20261101T060000
END:STANDARD
BEGIN:DAYLIGHT
TZOFFSETFROM:-0500
TZOFFSETTO:-0400
TZNAME:EDT
DTSTART:20270314T070000
END:DAYLIGHT
BEGIN:STANDARD
TZOFFSETFROM:-0400
TZOFFSETTO:-0500
TZNAME:EST
DTSTART:20271107T060000
END:STANDARD
END:VTIMEZONE
BEGIN:VTIMEZONE
TZID:America/Detroit
BEGIN:DAYLIGHT
TZOFFSETFROM:-0500
TZOFFSETTO:-0400
TZNAME:EDT
DTSTART:20240310T070000
END:DAYLIGHT
BEGIN:STANDARD
TZOFFSETFROM:-0400
TZOFFSETTO:-0500
TZNAME:EST
DTSTART:20241103T060000
END:STANDARD
BEGIN:DAYLIGHT
TZOFFSETFROM:-0500
TZOFFSETTO:-0400
TZNAME:EDT
DTSTART:20250309T070000
END:DAYLIGHT
BEGIN:STANDARD
TZOFFSETFROM:-0400
TZOFFSETTO:-0500
TZNAME:EST
DTSTART:20251102T060000
END:STANDARD
BEGIN:DAYLIGHT
TZOFFSETFROM:-0500
TZOFFSETTO:-0400
TZNAME:EDT
DTSTART:20260308T070000
END:DAYLIGHT
BEGIN:STANDARD
TZOFFSETFROM:-0400
TZOFFSETTO:-0500
TZNAME:EST
DTSTART:20261101T060000
END:STANDARD
BEGIN:DAYLIGHT
TZOFFSETFROM:-0500
TZOFFSETTO:-0400
TZNAME:EDT
DTSTART:20270314T070000
END:DAYLIGHT
BEGIN:STANDARD
TZOFFSETFROM:-0400
TZOFFSETTO:-0500
TZNAME:EST
DTSTART:20271107T060000
END:STANDARD
END:VTIMEZONE
BEGIN:VEVENT
DTSTART;TZID=America/New_York:20260408T180000
DTEND;TZID=America/New_York:20260408T200000
DTSTAMP:20260423T212148
CREATED:20250807T135835Z
LAST-MODIFIED:20250807T135837Z
UID:10000084-1775671200-1775678400@detroitlinks.org
SUMMARY:The Links\, Inc. Detroit (MI) Monthly Chapter Meeting
DESCRIPTION:
URL:https://detroitlinks.org/event/the-links-inc-detroit-mi-monthly-chapter-meeting-5/
LOCATION:Detroit Golf Club\, 17911 Hamilton\, Detroit\, MI\, 48203\, United States
CATEGORIES:Monthly Meetings
END:VEVENT
BEGIN:VEVENT
DTSTART;TZID=America/Detroit:20260321T120000
DTEND;TZID=America/Detroit:20260321T150000
DTSTAMP:20260423T212148
CREATED:20251211T010831Z
LAST-MODIFIED:20260311T194715Z
UID:10000087-1774094400-1774105200@detroitlinks.org
SUMMARY:Black Family Wellness Expo
DESCRIPTION:
URL:https://detroitlinks.org/event/black-family-wellness-expo/
LOCATION:Northwest Activity Center\, 18100 Meyers Rd\, Detroit\, MI\, 48235\, United States
CATEGORIES:National,public events
END:VEVENT
BEGIN:VEVENT
DTSTART;TZID=America/New_York:20260311T180000
DTEND;TZID=America/New_York:20260311T200000
DTSTAMP:20260423T212148
CREATED:20250716T224350Z
LAST-MODIFIED:20250716T224942Z
UID:10000083-1773252000-1773259200@detroitlinks.org
SUMMARY:The Links\, Inc. Detroit (MI) Monthly Chapter Meeting
DESCRIPTION:
URL:https://detroitlinks.org/event/the-links-inc-detroit-mi-monthly-chapter-meeting/2026-03-11/
LOCATION:MI
CATEGORIES:Monthly Meetings
END:VEVENT
BEGIN:VEVENT
DTSTART;VALUE=DATE:20260310
DTEND;VALUE=DATE:20260311
DTSTAMP:20260423T212148
CREATED:20250716T223717Z
LAST-MODIFIED:20251211T005849Z
UID:10000070-1773100800-1773187199@detroitlinks.org
SUMMARY:The Links\, Inc. Detroit Chapter Charter Day - HAPPY 75th ANNIVERSARY!
DESCRIPTION:Detroit Chapter Charter Day \nMarch 10\, 1951
URL:https://detroitlinks.org/event/the-detroit-chapter-charter-day/
LOCATION:MI
CATEGORIES:Local
END:VEVENT
BEGIN:VEVENT
DTSTART;TZID=America/New_York:20260211T180000
DTEND;TZID=America/New_York:20260211T200000
DTSTAMP:20260423T212148
CREATED:20250716T224350Z
LAST-MODIFIED:20250716T224942Z
UID:10000082-1770832800-1770840000@detroitlinks.org
SUMMARY:The Links\, Inc. Detroit (MI) Monthly Chapter Meeting
DESCRIPTION:
URL:https://detroitlinks.org/event/the-links-inc-detroit-mi-monthly-chapter-meeting/2026-02-11/
LOCATION:MI
CATEGORIES:Monthly Meetings
END:VEVENT
BEGIN:VEVENT
DTSTART;TZID=America/New_York:20260121T093000
DTEND;TZID=America/New_York:20260121T110000
DTSTAMP:20260423T212148
CREATED:20251211T011544Z
LAST-MODIFIED:20251211T011544Z
UID:10000089-1768987800-1768993200@detroitlinks.org
SUMMARY:The Arts Facet Activity - Art and Sound Therapy to Support Self-Care
DESCRIPTION:
URL:https://detroitlinks.org/event/the-arts-facet-activity-art-and-sound-therapy-to-support-self-care/
LOCATION:Marygrove\, 8425 W McNichols Rd\, Detroit\, 48221\, United States
CATEGORIES:Facets,The Arts
END:VEVENT
BEGIN:VEVENT
DTSTART;TZID=America/Detroit:20260118T080000
DTEND;TZID=America/Detroit:20260118T170000
DTSTAMP:20260423T212148
CREATED:20260109T013222Z
LAST-MODIFIED:20260109T015113Z
UID:10000092-1768723200-1768755600@detroitlinks.org
SUMMARY:Test Public Event
DESCRIPTION:
URL:https://detroitlinks.org/event/test-public-event/
LOCATION:Detroit Golf Club\, 17911 Hamilton\, Detroit\, MI\, 48203\, United States
CATEGORIES:public events
END:VEVENT
BEGIN:VEVENT
DTSTART;TZID=America/Detroit:20260114T180000
DTEND;TZID=America/Detroit:20260114T200000
DTSTAMP:20260423T212148
CREATED:20251211T005050Z
LAST-MODIFIED:20251211T005209Z
UID:10000086-1768413600-1768420800@detroitlinks.org
SUMMARY:(Virtual) Detroit Chapter Retreat / Budget Meeting
DESCRIPTION:
URL:https://detroitlinks.org/event/virtual-detroit-chapter-retreat-budget-meeting/
LOCATION:Virtual
CATEGORIES:Monthly Meetings
END:VEVENT
BEGIN:VEVENT
DTSTART;TZID=America/Detroit:20251211T093000
DTEND;TZID=America/Detroit:20251211T110000
DTSTAMP:20260423T212148
CREATED:20251211T011405Z
LAST-MODIFIED:20251211T011405Z
UID:10000088-1765445400-1765450800@detroitlinks.org
SUMMARY:National Trends & Services Facet Activity - Community Solutions Lab
DESCRIPTION:
URL:https://detroitlinks.org/event/national-trends-services-facet-activity-community-solutions-lab/
LOCATION:Marygrove\, 8425 W McNichols Rd\, Detroit\, 48221\, United States
CATEGORIES:Facets,National Trends and Services
END:VEVENT
BEGIN:VEVENT
DTSTART;TZID=America/New_York:20251210T180000
DTEND;TZID=America/New_York:20251210T200000
DTSTAMP:20260423T212148
CREATED:20250807T135729Z
LAST-MODIFIED:20250807T135730Z
UID:10000081-1765389600-1765396800@detroitlinks.org
SUMMARY:The Links\, Inc. Detroit (MI) Monthly Chapter Meeting
DESCRIPTION:
URL:https://detroitlinks.org/event/the-links-inc-detroit-mi-monthly-chapter-meeting-4/
LOCATION:Detroit Golf Club\, 17911 Hamilton\, Detroit\, MI\, 48203\, United States
CATEGORIES:Monthly Meetings
END:VEVENT
BEGIN:VEVENT
DTSTART;TZID=America/New_York:20251119T093000
DTEND;TZID=America/New_York:20251119T110000
DTSTAMP:20260423T212148
CREATED:20251211T012351Z
LAST-MODIFIED:20251211T012712Z
UID:10000090-1763544600-1763550000@detroitlinks.org
SUMMARY:Health & Human Services Facet Activity - Mind Matters: Building Mental Awareness
DESCRIPTION:
URL:https://detroitlinks.org/event/health-and-human-services-facet-activity-mind-matters-building-mental-awareness/
LOCATION:Marygrove\, 8425 W McNichols Rd\, Detroit\, 48221\, United States
CATEGORIES:Facets,Health and Human Services
END:VEVENT
BEGIN:VEVENT
DTSTART;TZID=America/New_York:20251112T180000
DTEND;TZID=America/New_York:20251112T200000
DTSTAMP:20260423T212148
CREATED:20250807T135613Z
LAST-MODIFIED:20250807T135616Z
UID:10000080-1762970400-1762977600@detroitlinks.org
SUMMARY:The Links\, Inc. Detroit (MI) Monthly Chapter Meeting
DESCRIPTION:
URL:https://detroitlinks.org/event/the-links-inc-detroit-mi-monthly-chapter-meeting-3/
LOCATION:Detroit Golf Club\, 17911 Hamilton\, Detroit\, MI\, 48203\, United States
CATEGORIES:Monthly Meetings
END:VEVENT
BEGIN:VEVENT
DTSTART;VALUE=DATE:20251109
DTEND;VALUE=DATE:20251110
DTSTAMP:20260423T212148
CREATED:20250716T223603Z
LAST-MODIFIED:20250716T223603Z
UID:10000069-1762646400-1762732799@detroitlinks.org
SUMMARY:The Links\, Inc. Founders' Day
DESCRIPTION:
URL:https://detroitlinks.org/event/the-links-inc-founders-day/
LOCATION:MI
CATEGORIES:National
END:VEVENT
BEGIN:VEVENT
DTSTART;TZID=America/New_York:20251108T110000
DTEND;TZID=America/New_York:20251108T140000
DTSTAMP:20260423T212148
CREATED:20250716T222822Z
LAST-MODIFIED:20250716T222822Z
UID:10000066-1762599600-1762610400@detroitlinks.org
SUMMARY:Joint Friendship Month Activity
DESCRIPTION:
URL:https://detroitlinks.org/event/joint-friendship-month-activity/
LOCATION:Detroit Golf Club\, 17911 Hamilton\, Detroit\, MI\, 48203\, United States
CATEGORIES:Monthly Meetings
END:VEVENT
BEGIN:VEVENT
DTSTART;TZID=America/New_York:20251101T090000
DTEND;TZID=America/New_York:20251101T150000
DTSTAMP:20260423T212148
CREATED:20250716T223003Z
LAST-MODIFIED:20250716T223003Z
UID:10000067-1761987600-1762009200@detroitlinks.org
SUMMARY:Metro Detroit STEAMM Collaborative
DESCRIPTION:
URL:https://detroitlinks.org/event/metro-detroit-steamm-collaborative/
LOCATION:University of Detroit\, 4001 W McNichols Rd\, Detroit\, MI\, 48221
CATEGORIES:Services to Youth
END:VEVENT
BEGIN:VEVENT
DTSTART;VALUE=DATE:20251025
DTEND;VALUE=DATE:20251031
DTSTAMP:20260423T212148
CREATED:20250716T222434Z
LAST-MODIFIED:20250716T222434Z
UID:10000064-1761350400-1761868799@detroitlinks.org
SUMMARY:Detroit Links Fun Retreat - Panama
DESCRIPTION:
URL:https://detroitlinks.org/event/detroit-links-fun-retreat-panama/
LOCATION:Dreams Playa Bonita
CATEGORIES:All Events
END:VEVENT
BEGIN:VEVENT
DTSTART;TZID=America/New_York:20251015T093000
DTEND;TZID=America/New_York:20251015T110000
DTSTAMP:20260423T212148
CREATED:20251211T012558Z
LAST-MODIFIED:20251211T012558Z
UID:10000091-1760520600-1760526000@detroitlinks.org
SUMMARY:Services to Youth Facet Activity - Personality Matters: Understanding Me\, Empowering We
DESCRIPTION:
URL:https://detroitlinks.org/event/services-to-youth-facet-activity-personality-matters-understanding-me-empowering-we/
LOCATION:MI
CATEGORIES:Facets,Services to Youth
END:VEVENT
BEGIN:VEVENT
DTSTART;TZID=America/New_York:20251008T180000
DTEND;TZID=America/New_York:20251008T200000
DTSTAMP:20260423T212148
CREATED:20250716T224350Z
LAST-MODIFIED:20250716T224942Z
UID:10000079-1759946400-1759953600@detroitlinks.org
SUMMARY:The Links\, Inc. Detroit (MI) Monthly Chapter Meeting
DESCRIPTION:
URL:https://detroitlinks.org/event/the-links-inc-detroit-mi-monthly-chapter-meeting/2025-10-08/
LOCATION:MI
CATEGORIES:Monthly Meetings
END:VEVENT
BEGIN:VEVENT
DTSTART;TZID=America/New_York:20250910T180000
DTEND;TZID=America/New_York:20250910T200000
DTSTAMP:20260423T212148
CREATED:20250716T224530Z
LAST-MODIFIED:20250716T224755Z
UID:10000071-1757527200-1757534400@detroitlinks.org
SUMMARY:The Links\, Inc. Detroit (MI) Monthly Chapter Meeting
DESCRIPTION:
URL:https://detroitlinks.org/event/the-links-inc-detroit-mi-monthly-chapter-meeting-2/
LOCATION:Aurora Italiana\, 6199 Orchard Lake Rd\, West Bloomfield Township\, MI\, 48322\, United States
CATEGORIES:Monthly Meetings
END:VEVENT
BEGIN:VEVENT
DTSTART;TZID=America/New_York:20250809T080000
DTEND;TZID=America/New_York:20250809T170000
DTSTAMP:20260423T212148
CREATED:20250716T222546Z
LAST-MODIFIED:20250716T222616Z
UID:10000065-1754726400-1754758800@detroitlinks.org
SUMMARY:National Assembly Town Hall
DESCRIPTION:Location / Time TBD
URL:https://detroitlinks.org/event/national-assembly-town-hall/
LOCATION:MI
END:VEVENT
BEGIN:VEVENT
DTSTART;TZID=America/New_York:20250802T093000
DTEND;TZID=America/New_York:20250802T133000
DTSTAMP:20260423T212148
CREATED:20250716T221320Z
LAST-MODIFIED:20250716T221903Z
UID:10000063-1754127000-1754141400@detroitlinks.org
SUMMARY:The Detroit Chapter Links Summer Retreat
DESCRIPTION:  \n \nCost $65 p.p. \n*This chapter retreat counts towards your 5-meeting requirement.
URL:https://detroitlinks.org/event/the-detroit-chapter-links-summer-retreat/
LOCATION:The Iriquois Club\, 43248 Woodward Ave\, Bloomfield Township\, MI\, 48302\, United States
CATEGORIES:Monthly Meetings
ATTACH;FMTTYPE=image/png:https://detroitlinks.org/wp-content/uploads/2025/07/Screenshot-2025-07-16-at-7.09.06-PM.png
END:VEVENT
BEGIN:VEVENT
DTSTART;TZID=America/New_York:20250409T173000
DTEND;TZID=America/New_York:20250409T200000
DTSTAMP:20260423T212148
CREATED:20240911T004050Z
LAST-MODIFIED:20250716T215222Z
UID:10000057-1744219800-1744228800@detroitlinks.org
SUMMARY:April Chapter Meeting
DESCRIPTION:This is the detail information and please feel free to call. \n  \n  \nApril Chapter Meeting
URL:https://detroitlinks.org/event/april-chapter-meeting/
LOCATION:Detroit Golf Club\, 17911 Hamilton\, Detroit\, MI\, 48203\, United States
CATEGORIES:Monthly Meetings
END:VEVENT
BEGIN:VEVENT
DTSTART;TZID=America/Detroit:20250315T100000
DTEND;TZID=America/Detroit:20250315T130000
DTSTAMP:20260423T212148
CREATED:20250220T141451Z
LAST-MODIFIED:20250220T152234Z
UID:10000062-1742032800-1742043600@detroitlinks.org
SUMMARY:Black Family Wellness Expo 2025
DESCRIPTION:2 events found.	\n	\n		\n	\n\n		\n	\n\n		\n	\n\n	\n\n\n		\n		\n\n		\n		\n\n	\n	Events\n\n	\n	\n	\n\n	\n		Events Search and Views Navigation	\n\n			\n	\n	\n\n	\n		Search	\n\n\n		\n			\n	\n		\n\n		\n			\n	\n		Enter Keyword. Search for Events by Keyword.	\n	\n	\n	\n\n\n		\n\n		\n	Find Events\n	\n\n		\n	\n	\n	\n		Event Views Navigation	\n	\n		\n			\n				\n	\n	\n		\n		\n	\n	\n			\n		\n	\n	\n		\n			\n		\n		\n			\n		\n	\n\n			\n			\n				List			\n			\n	\n\n		\n		\n	\n					\n	\n		\n			\n	\n	\n		\n		\n	\n	\n			\n		\n	\n	\n		\n			\n		\n		\n			\n		\n	\n\n		\n		\n			List		\n	\n\n					\n	\n		\n			\n	\n\n		\n		\n			Month		\n	\n\n					\n	\n		\n			\n	\n\n		\n		\n			Day		\n	\n\n					\n	\n		\n			\n	\n\n		\n		\n			Week		\n	\n\n					\n	\n		\n			\n	\n\n		\n		\n			Map		\n	\n\n					\n	\n		\n			\n	\n\n		\n		\n			Summary		\n	\n\n			\n\n	\n\n\n\n\n	\n\n	\n	\n		\n	\n		\n	\n\n	\n\n\n		\n	\n		\n	\n\n	\n\n	\n\n\n	\n	Today\n\n	\n	\n		\n							\n					Upcoming				\n				\n					Upcoming				\n					\n				\n	\n\n	\n	\n		Select date.	\n	\n	\n	\n		\n	\n\n	\n	\n		\n	\n\n	\n\n\n	\n	\n	\n\n\n\n\n		\n		\n\n							\n				\n	\n		\n			May 2026		\n	\n\n\n				\n\n	\n	\n		\n			Wed		\n		\n			13		\n	\n\n\n	\n		\n			\n			\n\n				\n					\n	\n		The Links\, Inc. Detroit (MI) Monthly Chapter Meeting	\n\n					\n		\n		May 13 @ 6:00 pm - 8:00 pm	\n	\n\n	\n		\n\n	\n	\n	\n\n		The Links\, Inc. Detroit (MI) Monthly Chapter Meeting\n	\n\n\n					\n	\n		Detroit Golf Club	\n	\n		17911 Hamilton\, Detroit\, MI\, United States	\n	\n									\n\n								\n			\n		\n	\n\n\n\n							\n				\n	\n		\n			June 2026		\n	\n\n\n				\n\n	\n	\n		\n			Tue		\n		\n			23		\n	\n\n\n	\n		\n			\n			\n\n				\n					\n	\n		The Links\, Inc. 45th National Assembly	\n\n					\n		\n		June 23 - June 28	\n	\n					\n	\n		Huntington Place Convention Center	\n	\n		1 Washington Blvd\, Detroit\, MI\, United States	\n	\n									\n\n				\n	Convention Dates June 24-28\, 2026 \n\n				\n			\n		\n	\n\n\n\n			\n		\n\n		\n	\n		\n	\n		\n	\n\n		\n			Previous Events		\n	\n\n\n		\n	\n		Today	\n\n\n		\n	\n		\n			Next Events		\n		\n	\n\n	\n\n	\n\n\n		\n	\n		\n			\n				Subscribe to calendar			\n			\n	\n\n		\n		\n			\n									\n\n	\n		Google Calendar	\n\n									\n\n	\n		iCalendar	\n\n									\n\n	\n		Outlook 365	\n\n									\n\n	\n		Outlook Live	\n\n									\n\n	\n		Export .ics file	\n\n									\n\n	\n		Export Outlook .ics file
URL:https://detroitlinks.org/event/black-family-wellness-expo-2025/
LOCATION:Northwest Activity Center\, 18100 Meyers Rd\, Detroit\, MI\, 48235\, United States
CATEGORIES:public events
ATTACH;FMTTYPE=image/png:https://detroitlinks.org/wp-content/uploads/2025/02/Detroit-2025-BFWE-Social.png
END:VEVENT
BEGIN:VEVENT
DTSTART;TZID=America/New_York:20250312T173000
DTEND;TZID=America/New_York:20250312T200000
DTSTAMP:20260423T212148
CREATED:20240911T003924Z
LAST-MODIFIED:20241210T041600Z
UID:10000056-1741800600-1741809600@detroitlinks.org
SUMMARY:March Chapter Meeeting
DESCRIPTION:
URL:https://detroitlinks.org/event/marchaptermeeeting/
LOCATION:Detroit Golf Club\, 17911 Hamilton\, Detroit\, MI\, 48203\, United States
ATTACH;FMTTYPE=image/jpeg:https://detroitlinks.org/wp-content/uploads/2024/10/march.jpg
END:VEVENT
BEGIN:VEVENT
DTSTART;TZID=America/New_York:20250212T173000
DTEND;TZID=America/New_York:20250212T200000
DTSTAMP:20260423T212148
CREATED:20240911T003734Z
LAST-MODIFIED:20241210T041519Z
UID:10000055-1739381400-1739390400@detroitlinks.org
SUMMARY:February Chapter Meeting
DESCRIPTION:
URL:https://detroitlinks.org/event/febchaptermeeting/
LOCATION:Aurora Italiana\, 6199 Orchard Lake Rd\, West Bloomfield Township\, MI\, 48322\, United States
ATTACH;FMTTYPE=image/png:https://detroitlinks.org/wp-content/uploads/2024/09/feb.png
END:VEVENT
BEGIN:VEVENT
DTSTART;VALUE=DATE:20250201
DTEND;VALUE=DATE:20250301
DTSTAMP:20260423T212148
CREATED:20250106T072108Z
LAST-MODIFIED:20250106T072108Z
UID:10000060-1738368000-1740787199@detroitlinks.org
SUMMARY:National Heart Month
DESCRIPTION:
URL:https://detroitlinks.org/event/national-heart-month/
LOCATION:MI
CATEGORIES:public events
ATTACH;FMTTYPE=image/jpeg:https://detroitlinks.org/wp-content/uploads/2025/01/doctor-medical-and-healthcare-consultation-of-a-black-woman-health-worker-with-a-patient-consulti.jpg
END:VEVENT
BEGIN:VEVENT
DTSTART;TZID=America/Detroit:20250130T190000
DTEND;TZID=America/Detroit:20250130T200000
DTSTAMP:20260423T212148
CREATED:20250123T024619Z
LAST-MODIFIED:20250123T024619Z
UID:10000061-1738263600-1738267200@detroitlinks.org
SUMMARY:Links Technology Committee
DESCRIPTION:Join Zoom Meeting\nhttps://us02web.zoom.us/j/89417785419?pwd=Q0jR6Q3a3EghaFLLgL2amZBmaUz5al.1 (ID: 89417785419\, passcode: 502366)\nJoin by phone\n(US) +1 312-626-6799 (passcode: 502366)\nJoining instructions: https://www.google.com/url?q=https://applications.zoom.us/addon/invitation/detail?meetingUuid%3DbnYTa4QOSdKB4FNIrlXVaw%253D%253D%26signature%3D2f62aceef2ab2f01fba6422060708f85b386dfaf19e442a984ce668d725aca24%26v%3D1&sa=D&source=calendar&usg=AOvVaw3o2OGMDike8G0IjtZdYrDY\nMeeting host: katrinaturnbow@gmail.com \nJoin Zoom Meeting: https://us02web.zoom.us/j/89417785419?pwd=Q0jR6Q3a3EghaFLLgL2amZBmaUz5al.1
URL:https://detroitlinks.org/event/links-technology-committee/
LOCATION:MI
CATEGORIES:All Events
ORGANIZER;CN="Kanopi Social":MAILTO:connect@kanopisocial.com
END:VEVENT
BEGIN:VEVENT
DTSTART;TZID=America/New_York:20241211T173000
DTEND;TZID=America/New_York:20241211T200000
DTSTAMP:20260423T212148
CREATED:20240911T000808Z
LAST-MODIFIED:20241126T033009Z
UID:10000045-1733938200-1733947200@detroitlinks.org
SUMMARY:December Monthly Chapter Meeting
DESCRIPTION:
URL:https://detroitlinks.org/event/decchaptermeeting/
LOCATION:Detroit Golf Club\, 17911 Hamilton\, Detroit\, MI\, 48203\, United States
ATTACH;FMTTYPE=image/jpeg:https://detroitlinks.org/wp-content/uploads/2024/09/dec-1.jpg
END:VEVENT
BEGIN:VEVENT
DTSTART;TZID=America/New_York:20241113T173000
DTEND;TZID=America/New_York:20241113T200000
DTSTAMP:20260423T212148
CREATED:20240911T001827Z
LAST-MODIFIED:20241008T183839Z
UID:10000049-1731519000-1731528000@detroitlinks.org
SUMMARY:November Chapter Meeting
DESCRIPTION:
URL:https://detroitlinks.org/event/novchaptermeeting/
LOCATION:Aurora Italiana\, 6199 Orchard Lake Rd\, West Bloomfield Township\, MI\, 48322\, United States
ATTACH;FMTTYPE=image/jpeg:https://detroitlinks.org/wp-content/uploads/2024/09/nov.jpg
END:VEVENT
BEGIN:VEVENT
DTSTART;TZID=America/New_York:20241102T090000
DTEND;TZID=America/New_York:20241102T150000
DTSTAMP:20260423T212148
CREATED:20240214T060159Z
LAST-MODIFIED:20241008T005849Z
UID:10000037-1730538000-1730559600@detroitlinks.org
SUMMARY:The Metro Detroit Links Collaboration present the 2024 STEAMM Youth Event
DESCRIPTION:
URL:https://detroitlinks.org/event/the-metro-detroit-links-collective-present-the-2024-steamm-collaboration/
LOCATION:University of Detroit\, 4001 W McNichols Rd\, Detroit\, MI\, 48221
CATEGORIES:Services to Youth
ATTACH;FMTTYPE=image/jpeg:https://detroitlinks.org/wp-content/uploads/2024/02/November-2024-STEAMM-Flyer-1-1.jpg
END:VEVENT
END:VCALENDAR