BEGIN:VCALENDAR
VERSION:2.0
PRODID:-//Detroit (MI) Chapter of The Links Incorporated - ECPv6.15.20//NONSGML v1.0//EN
CALSCALE:GREGORIAN
METHOD:PUBLISH
X-WR-CALNAME:Detroit (MI) Chapter of The Links Incorporated
X-ORIGINAL-URL:https://detroitlinks.org
X-WR-CALDESC:Events for Detroit (MI) Chapter of The Links Incorporated
REFRESH-INTERVAL;VALUE=DURATION:PT1H
X-Robots-Tag:noindex
X-PUBLISHED-TTL:PT1H
BEGIN:VTIMEZONE
TZID:America/New_York
BEGIN:DAYLIGHT
TZOFFSETFROM:-0500
TZOFFSETTO:-0400
TZNAME:EDT
DTSTART:20250309T070000
END:DAYLIGHT
BEGIN:STANDARD
TZOFFSETFROM:-0400
TZOFFSETTO:-0500
TZNAME:EST
DTSTART:20251102T060000
END:STANDARD
BEGIN:DAYLIGHT
TZOFFSETFROM:-0500
TZOFFSETTO:-0400
TZNAME:EDT
DTSTART:20260308T070000
END:DAYLIGHT
BEGIN:STANDARD
TZOFFSETFROM:-0400
TZOFFSETTO:-0500
TZNAME:EST
DTSTART:20261101T060000
END:STANDARD
BEGIN:DAYLIGHT
TZOFFSETFROM:-0500
TZOFFSETTO:-0400
TZNAME:EDT
DTSTART:20270314T070000
END:DAYLIGHT
BEGIN:STANDARD
TZOFFSETFROM:-0400
TZOFFSETTO:-0500
TZNAME:EST
DTSTART:20271107T060000
END:STANDARD
END:VTIMEZONE
BEGIN:VEVENT
DTSTART;TZID=America/New_York:20260513T180000
DTEND;TZID=America/New_York:20260513T200000
DTSTAMP:20260423T200318
CREATED:20250807T135944Z
LAST-MODIFIED:20250807T135945Z
UID:10000085-1778695200-1778702400@detroitlinks.org
SUMMARY:The Links\, Inc. Detroit (MI) Monthly Chapter Meeting
DESCRIPTION:
URL:https://detroitlinks.org/event/the-links-inc-detroit-mi-monthly-chapter-meeting-6/
LOCATION:Detroit Golf Club\, 17911 Hamilton\, Detroit\, MI\, 48203\, United States
CATEGORIES:Monthly Meetings
END:VEVENT
BEGIN:VEVENT
DTSTART;VALUE=DATE:20260623
DTEND;VALUE=DATE:20260629
DTSTAMP:20260423T200318
CREATED:20250716T223423Z
LAST-MODIFIED:20250716T223423Z
UID:10000068-1782172800-1782691199@detroitlinks.org
SUMMARY:The Links\, Inc. 45th National Assembly
DESCRIPTION:Convention Dates June 24-28\, 2026
URL:https://detroitlinks.org/event/the-links-inc-45th-national-assembly/
LOCATION:Huntington Place Convention Center\, 1 Washington Blvd\, Detroit\, MI\, 48226\, United States
CATEGORIES:National
END:VEVENT
END:VCALENDAR